BEGIN:VCALENDAR
VERSION:2.0
PRODID:-//  - ECPv6.15.10//NONSGML v1.0//EN
CALSCALE:GREGORIAN
METHOD:PUBLISH
X-WR-CALNAME: 
X-ORIGINAL-URL:https://centralsquarevillas.com
X-WR-CALDESC:Events for  
REFRESH-INTERVAL;VALUE=DURATION:PT1H
X-Robots-Tag:noindex
X-PUBLISHED-TTL:PT1H
BEGIN:VTIMEZONE
TZID:UTC
BEGIN:STANDARD
TZOFFSETFROM:+0000
TZOFFSETTO:+0000
TZNAME:UTC
DTSTART:20220101T000000
END:STANDARD
END:VTIMEZONE
BEGIN:VEVENT
DTSTART;VALUE=DATE:20260307
DTEND;VALUE=DATE:20260308
DTSTAMP:20260424T141755
CREATED:20260225T225513Z
LAST-MODIFIED:20260225T225513Z
UID:4603-1772841600-1772927999@centralsquarevillas.com
SUMMARY:Clubhouse Reserved
DESCRIPTION:
URL:https://centralsquarevillas.com/event/clubhouse-reserved-56/
END:VEVENT
BEGIN:VEVENT
DTSTART;VALUE=DATE:20260301
DTEND;VALUE=DATE:20260302
DTSTAMP:20260424T141755
CREATED:20260225T225423Z
LAST-MODIFIED:20260225T225423Z
UID:4601-1772323200-1772409599@centralsquarevillas.com
SUMMARY:Clubhouse Reserved
DESCRIPTION:
URL:https://centralsquarevillas.com/event/clubhouse-reserved-55/
END:VEVENT
BEGIN:VEVENT
DTSTART;VALUE=DATE:20250914
DTEND;VALUE=DATE:20250915
DTSTAMP:20260424T141755
CREATED:20250905T132159Z
LAST-MODIFIED:20250905T132159Z
UID:4568-1757808000-1757894399@centralsquarevillas.com
SUMMARY:Clubhouse Reserved
DESCRIPTION:
URL:https://centralsquarevillas.com/event/clubhouse-reserved-53/
END:VEVENT
BEGIN:VEVENT
DTSTART;TZID=UTC:20250816T080000
DTEND;TZID=UTC:20250816T170000
DTSTAMP:20260424T141755
CREATED:20250728T135520Z
LAST-MODIFIED:20250728T135520Z
UID:4464-1755331200-1755363600@centralsquarevillas.com
SUMMARY:Clubhouse Reserved
DESCRIPTION:
URL:https://centralsquarevillas.com/event/clubhouse-reserved-51/
END:VEVENT
BEGIN:VEVENT
DTSTART;TZID=UTC:20250809T120000
DTEND;TZID=UTC:20250809T170000
DTSTAMP:20260424T141755
CREATED:20250808T170833Z
LAST-MODIFIED:20250808T170833Z
UID:4467-1754740800-1754758800@centralsquarevillas.com
SUMMARY:Clubhouse Reserved
DESCRIPTION:
URL:https://centralsquarevillas.com/event/clubhouse-reserved-52/
END:VEVENT
BEGIN:VEVENT
DTSTART;TZID=UTC:20250702T150000
DTEND;TZID=UTC:20250702T210000
DTSTAMP:20260424T141755
CREATED:20250505T200648Z
LAST-MODIFIED:20250505T200648Z
UID:4420-1751468400-1751490000@centralsquarevillas.com
SUMMARY:Clubhouse Reserved
DESCRIPTION:
URL:https://centralsquarevillas.com/event/clubhouse-reserved-49/
END:VEVENT
BEGIN:VEVENT
DTSTART;TZID=UTC:20250610T190000
DTEND;TZID=UTC:20250610T190000
DTSTAMP:20260424T141755
CREATED:20250531T140234Z
LAST-MODIFIED:20250531T140328Z
UID:4426-1749582000-1749582000@centralsquarevillas.com
SUMMARY:Annual Meeting -  Main Transit Fire Hall
DESCRIPTION:At the Main Transit Fire Hall
URL:https://centralsquarevillas.com/event/annual-meeting-4/
LOCATION:Main-Transit Firehall\, 6777 Main Street\, Williamsville\, NY\, 14221\, United States
END:VEVENT
BEGIN:VEVENT
DTSTART;VALUE=DATE:20250601
DTEND;VALUE=DATE:20250602
DTSTAMP:20260424T141755
CREATED:20250513T184027Z
LAST-MODIFIED:20250513T184027Z
UID:4423-1748736000-1748822399@centralsquarevillas.com
SUMMARY:Clubhouse Reserved
DESCRIPTION:
URL:https://centralsquarevillas.com/event/clubhouse-reserved-50/
END:VEVENT
BEGIN:VEVENT
DTSTART;TZID=UTC:20250504T140000
DTEND;TZID=UTC:20250504T180000
DTSTAMP:20260424T141755
CREATED:20250416T193951Z
LAST-MODIFIED:20250416T193951Z
UID:4417-1746367200-1746381600@centralsquarevillas.com
SUMMARY:Clubhouse Reserved
DESCRIPTION:
URL:https://centralsquarevillas.com/event/clubhouse-reserved-48/
END:VEVENT
BEGIN:VEVENT
DTSTART;VALUE=DATE:20250118
DTEND;VALUE=DATE:20250119
DTSTAMP:20260424T141755
CREATED:20241113T184935Z
LAST-MODIFIED:20241113T184935Z
UID:4380-1737158400-1737244799@centralsquarevillas.com
SUMMARY:Clubhouse Reserved
DESCRIPTION:
URL:https://centralsquarevillas.com/event/clubhouse-reserved-47/
END:VEVENT
BEGIN:VEVENT
DTSTART;VALUE=DATE:20241224
DTEND;VALUE=DATE:20241225
DTSTAMP:20260424T141755
CREATED:20241017T124712Z
LAST-MODIFIED:20241017T124712Z
UID:4375-1734998400-1735084799@centralsquarevillas.com
SUMMARY:Clubhouse Reserved
DESCRIPTION:
URL:https://centralsquarevillas.com/event/clubhouse-reserved-45/
END:VEVENT
BEGIN:VEVENT
DTSTART;TZID=UTC:20241130T100000
DTEND;TZID=UTC:20241130T170000
DTSTAMP:20260424T141755
CREATED:20241106T205349Z
LAST-MODIFIED:20241106T205349Z
UID:4378-1732960800-1732986000@centralsquarevillas.com
SUMMARY:Clubhouse Reserved
DESCRIPTION:
URL:https://centralsquarevillas.com/event/clubhouse-reserved-46/
END:VEVENT
BEGIN:VEVENT
DTSTART;VALUE=DATE:20241102
DTEND;VALUE=DATE:20241103
DTSTAMP:20260424T141755
CREATED:20240927T163542Z
LAST-MODIFIED:20240927T163542Z
UID:4372-1730505600-1730591999@centralsquarevillas.com
SUMMARY:Clubhouse Reserved
DESCRIPTION:
URL:https://centralsquarevillas.com/event/clubhouse-reserved-44/
END:VEVENT
BEGIN:VEVENT
DTSTART;TZID=UTC:20241023T183000
DTEND;TZID=UTC:20241023T193000
DTSTAMP:20260424T141755
CREATED:20240713T123914Z
LAST-MODIFIED:20240713T123914Z
UID:4258-1729708200-1729711800@centralsquarevillas.com
SUMMARY:Board Meeting
DESCRIPTION:
URL:https://centralsquarevillas.com/event/board-meeting-18/
END:VEVENT
BEGIN:VEVENT
DTSTART;TZID=UTC:20241023T180000
DTEND;TZID=UTC:20241023T183000
DTSTAMP:20260424T141755
CREATED:20240713T123944Z
LAST-MODIFIED:20240713T123944Z
UID:4260-1729706400-1729708200@centralsquarevillas.com
SUMMARY:Community Board Meeting
DESCRIPTION:
URL:https://centralsquarevillas.com/event/community-board-meeting-2/
END:VEVENT
BEGIN:VEVENT
DTSTART;VALUE=DATE:20240825
DTEND;VALUE=DATE:20240826
DTSTAMP:20260424T141755
CREATED:20240819T125144Z
LAST-MODIFIED:20240819T125144Z
UID:4300-1724544000-1724630399@centralsquarevillas.com
SUMMARY:Community Cook Out
DESCRIPTION:
URL:https://centralsquarevillas.com/event/community-cook-out/
END:VEVENT
BEGIN:VEVENT
DTSTART;TZID=UTC:20240810T110000
DTEND;TZID=UTC:20240810T170000
DTSTAMP:20260424T141755
CREATED:20240525T011328Z
LAST-MODIFIED:20240525T011328Z
UID:4248-1723287600-1723309200@centralsquarevillas.com
SUMMARY:Clubhouse Reserved
DESCRIPTION:
URL:https://centralsquarevillas.com/event/clubhouse-reserved-42/
END:VEVENT
BEGIN:VEVENT
DTSTART;TZID=UTC:20240723T183000
DTEND;TZID=UTC:20240723T193000
DTSTAMP:20260424T141755
CREATED:20240713T123842Z
LAST-MODIFIED:20240713T123842Z
UID:4256-1721759400-1721763000@centralsquarevillas.com
SUMMARY:Board Meeting
DESCRIPTION:
URL:https://centralsquarevillas.com/event/board-meeting-17/
END:VEVENT
BEGIN:VEVENT
DTSTART;TZID=UTC:20240723T180000
DTEND;TZID=UTC:20240723T183000
DTSTAMP:20260424T141755
CREATED:20240713T123757Z
LAST-MODIFIED:20240713T123757Z
UID:4254-1721757600-1721759400@centralsquarevillas.com
SUMMARY:Community Board Meeting
DESCRIPTION:
URL:https://centralsquarevillas.com/event/community-board-meeting/
END:VEVENT
BEGIN:VEVENT
DTSTART;TZID=UTC:20240721T150000
DTEND;TZID=UTC:20240721T210000
DTSTAMP:20260424T141755
CREATED:20240702T201630Z
LAST-MODIFIED:20240702T201630Z
UID:4251-1721574000-1721595600@centralsquarevillas.com
SUMMARY:Clubhouse Reserved
DESCRIPTION:
URL:https://centralsquarevillas.com/event/clubhouse-reserved-43/
END:VEVENT
BEGIN:VEVENT
DTSTART;TZID=UTC:20240604T190000
DTEND;TZID=UTC:20240604T210000
DTSTAMP:20260424T141755
CREATED:20240420T151652Z
LAST-MODIFIED:20240420T152235Z
UID:4199-1717527600-1717534800@centralsquarevillas.com
SUMMARY:Annual Meeting
DESCRIPTION:Main-Transit Fire Hall\n677 Main Street Williamsville\, NY 14221\n7:00 pm to no later than 9:00 pm
URL:https://centralsquarevillas.com/event/annual-meeting-3/
LOCATION:Main-Transit Firehall\, 6777 Main Street\, Williamsville\, NY\, 14221\, United States
END:VEVENT
BEGIN:VEVENT
DTSTART;TZID=UTC:20240518T150000
DTEND;TZID=UTC:20240518T190000
DTSTAMP:20260424T141755
CREATED:20240312T235149Z
LAST-MODIFIED:20240325T133047Z
UID:4195-1716044400-1716058800@centralsquarevillas.com
SUMMARY:Clubhouse Reserved
DESCRIPTION:
URL:https://centralsquarevillas.com/event/clubhouse-reserved-41/
END:VEVENT
BEGIN:VEVENT
DTSTART;VALUE=DATE:20240309
DTEND;VALUE=DATE:20240310
DTSTAMP:20260424T141755
CREATED:20230829T175734Z
LAST-MODIFIED:20230829T175734Z
UID:3541-1709942400-1710028799@centralsquarevillas.com
SUMMARY:Clubhouse Reserved
DESCRIPTION:Clubhouse Reserved all day
URL:https://centralsquarevillas.com/event/clubhouse-reserved-33/
END:VEVENT
BEGIN:VEVENT
DTSTART;VALUE=DATE:20240218
DTEND;VALUE=DATE:20240219
DTSTAMP:20260424T141755
CREATED:20231218T134341Z
LAST-MODIFIED:20231218T134341Z
UID:4165-1708214400-1708300799@centralsquarevillas.com
SUMMARY:Clubhouse Reserved
DESCRIPTION:
URL:https://centralsquarevillas.com/event/clubhouse-reserved-40/
END:VEVENT
BEGIN:VEVENT
DTSTART;VALUE=DATE:20231210
DTEND;VALUE=DATE:20231211
DTSTAMP:20260424T141755
CREATED:20231022T201339Z
LAST-MODIFIED:20231022T201339Z
UID:3932-1702166400-1702252799@centralsquarevillas.com
SUMMARY:Community Tailgate Party
DESCRIPTION:
URL:https://centralsquarevillas.com/event/community-tailgate-party/
END:VEVENT
BEGIN:VEVENT
DTSTART;VALUE=DATE:20231209
DTEND;VALUE=DATE:20231210
DTSTAMP:20260424T141755
CREATED:20231121T212237Z
LAST-MODIFIED:20231121T212237Z
UID:4162-1702080000-1702166399@centralsquarevillas.com
SUMMARY:Clubhouse Reserved
DESCRIPTION:
URL:https://centralsquarevillas.com/event/clubhouse-reserved-39/
END:VEVENT
BEGIN:VEVENT
DTSTART;TZID=UTC:20231127T100000
DTEND;TZID=UTC:20231127T170000
DTSTAMP:20260424T141755
CREATED:20231120T174835Z
LAST-MODIFIED:20231120T174835Z
UID:4137-1701079200-1701104400@centralsquarevillas.com
SUMMARY:Clubhouse Reserved
DESCRIPTION:
URL:https://centralsquarevillas.com/event/clubhouse-reserved-38/
END:VEVENT
BEGIN:VEVENT
DTSTART;VALUE=DATE:20231125
DTEND;VALUE=DATE:20231126
DTSTAMP:20260424T141755
CREATED:20231022T201213Z
LAST-MODIFIED:20231022T201213Z
UID:3926-1700870400-1700956799@centralsquarevillas.com
SUMMARY:Clubhouse Reserved
DESCRIPTION:
URL:https://centralsquarevillas.com/event/clubhouse-reserved-35/
END:VEVENT
BEGIN:VEVENT
DTSTART;TZID=UTC:20231116T190000
DTEND;TZID=UTC:20231116T200000
DTSTAMP:20260424T141755
CREATED:20231022T201318Z
LAST-MODIFIED:20231022T201318Z
UID:3930-1700161200-1700164800@centralsquarevillas.com
SUMMARY:Board Meeeting
DESCRIPTION:
URL:https://centralsquarevillas.com/event/board-meeeting/
END:VEVENT
BEGIN:VEVENT
DTSTART;TZID=UTC:20231116T180000
DTEND;TZID=UTC:20231116T183000
DTSTAMP:20260424T141755
CREATED:20231022T201246Z
LAST-MODIFIED:20231022T201505Z
UID:3928-1700157600-1700159400@centralsquarevillas.com
SUMMARY:Community Q&A
DESCRIPTION:Please submit any questions/concerns in writing to the Property Management company by 11/10/23.
URL:https://centralsquarevillas.com/event/community-qa/
END:VEVENT
END:VCALENDAR