BEGIN:VCALENDAR
VERSION:2.0
PRODID:-//  - ECPv6.15.10//NONSGML v1.0//EN
CALSCALE:GREGORIAN
METHOD:PUBLISH
X-ORIGINAL-URL:https://centralsquarevillas.com
X-WR-CALDESC:Events for  
REFRESH-INTERVAL;VALUE=DURATION:PT1H
X-Robots-Tag:noindex
X-PUBLISHED-TTL:PT1H
BEGIN:VTIMEZONE
TZID:UTC
BEGIN:STANDARD
TZOFFSETFROM:+0000
TZOFFSETTO:+0000
TZNAME:UTC
DTSTART:20250101T000000
END:STANDARD
END:VTIMEZONE
BEGIN:VEVENT
DTSTART;VALUE=DATE:20260301
DTEND;VALUE=DATE:20260302
DTSTAMP:20260424T163253
CREATED:20260225T225423Z
LAST-MODIFIED:20260225T225423Z
UID:4601-1772323200-1772409599@centralsquarevillas.com
SUMMARY:Clubhouse Reserved
DESCRIPTION:
URL:https://centralsquarevillas.com/event/clubhouse-reserved-55/
END:VEVENT
BEGIN:VEVENT
DTSTART;VALUE=DATE:20260307
DTEND;VALUE=DATE:20260308
DTSTAMP:20260424T163253
CREATED:20260225T225513Z
LAST-MODIFIED:20260225T225513Z
UID:4603-1772841600-1772927999@centralsquarevillas.com
SUMMARY:Clubhouse Reserved
DESCRIPTION:
URL:https://centralsquarevillas.com/event/clubhouse-reserved-56/
END:VEVENT
BEGIN:VEVENT
DTSTART;VALUE=DATE:20260628
DTEND;VALUE=DATE:20260629
DTSTAMP:20260424T163253
CREATED:20260417T114841Z
LAST-MODIFIED:20260417T114841Z
UID:4606-1782604800-1782691199@centralsquarevillas.com
SUMMARY:Clubhouse Reserved
DESCRIPTION:
URL:https://centralsquarevillas.com/event/clubhouse-reserved-57/
END:VEVENT
END:VCALENDAR