BEGIN:VCALENDAR
VERSION:2.0
PRODID:-//  - ECPv6.15.10//NONSGML v1.0//EN
CALSCALE:GREGORIAN
METHOD:PUBLISH
X-WR-CALNAME: 
X-ORIGINAL-URL:https://centralsquarevillas.com
X-WR-CALDESC:Events for  
REFRESH-INTERVAL;VALUE=DURATION:PT1H
X-Robots-Tag:noindex
X-PUBLISHED-TTL:PT1H
BEGIN:VTIMEZONE
TZID:UTC
BEGIN:STANDARD
TZOFFSETFROM:+0000
TZOFFSETTO:+0000
TZNAME:UTC
DTSTART:20200101T000000
END:STANDARD
END:VTIMEZONE
BEGIN:VEVENT
DTSTART;TZID=UTC:20220921T170000
DTEND;TZID=UTC:20220921T210000
DTSTAMP:20260425T131256
CREATED:20220223T033953Z
LAST-MODIFIED:20220223T033953Z
UID:3109-1663779600-1663794000@centralsquarevillas.com
SUMMARY:Clubhouse Reserved
DESCRIPTION:
URL:https://centralsquarevillas.com/event/clubhouse-reserved-14/
END:VEVENT
BEGIN:VEVENT
DTSTART;TZID=UTC:20220915T190000
DTEND;TZID=UTC:20220915T210000
DTSTAMP:20260425T131256
CREATED:20220810T204026Z
LAST-MODIFIED:20220810T204145Z
UID:3195-1663268400-1663275600@centralsquarevillas.com
SUMMARY:Private Event
DESCRIPTION:
URL:https://centralsquarevillas.com/event/testing-new-event/
END:VEVENT
BEGIN:VEVENT
DTSTART;VALUE=DATE:20220915
DTEND;VALUE=DATE:20220916
DTSTAMP:20260425T131256
CREATED:20220822T200321Z
LAST-MODIFIED:20220822T200321Z
UID:3236-1663200000-1663286399@centralsquarevillas.com
SUMMARY:Clubhouse driveway/parking Sealing & Striping
DESCRIPTION:
URL:https://centralsquarevillas.com/event/clubhouse-driveway-parking-sealing-striping/
END:VEVENT
BEGIN:VEVENT
DTSTART;VALUE=DATE:20220912
DTEND;VALUE=DATE:20220913
DTSTAMP:20260425T131256
CREATED:20220822T200303Z
LAST-MODIFIED:20220822T200303Z
UID:3234-1662940800-1663027199@centralsquarevillas.com
SUMMARY:Pool Closing
DESCRIPTION:
URL:https://centralsquarevillas.com/event/pool-closing/
CATEGORIES:Pool
END:VEVENT
BEGIN:VEVENT
DTSTART;TZID=UTC:20220817T170000
DTEND;TZID=UTC:20220817T210000
DTSTAMP:20260425T131256
CREATED:20220223T033915Z
LAST-MODIFIED:20220223T033915Z
UID:3107-1660755600-1660770000@centralsquarevillas.com
SUMMARY:Clubhouse Reserved
DESCRIPTION:
URL:https://centralsquarevillas.com/event/clubhouse-reserved-13/
END:VEVENT
BEGIN:VEVENT
DTSTART;TZID=UTC:20220720T170000
DTEND;TZID=UTC:20220720T210000
DTSTAMP:20260425T131256
CREATED:20220223T033829Z
LAST-MODIFIED:20220223T033829Z
UID:3105-1658336400-1658350800@centralsquarevillas.com
SUMMARY:Clubhouse Reserved
DESCRIPTION:
URL:https://centralsquarevillas.com/event/clubhouse-reserved-12/
END:VEVENT
BEGIN:VEVENT
DTSTART;TZID=UTC:20220615T170000
DTEND;TZID=UTC:20220615T210000
DTSTAMP:20260425T131256
CREATED:20220223T033739Z
LAST-MODIFIED:20220223T033739Z
UID:3103-1655312400-1655326800@centralsquarevillas.com
SUMMARY:Clubhouse Reserved
DESCRIPTION:
URL:https://centralsquarevillas.com/event/clubhouse-reserved-11/
END:VEVENT
BEGIN:VEVENT
DTSTART;TZID=UTC:20220522T120000
DTEND;TZID=UTC:20220522T170000
DTSTAMP:20260425T131256
CREATED:20220412T223248Z
LAST-MODIFIED:20220412T223248Z
UID:3143-1653220800-1653238800@centralsquarevillas.com
SUMMARY:Clubhouse Reserved
DESCRIPTION:
URL:https://centralsquarevillas.com/event/clubhouse-reserved-21/
LOCATION:Clubhouse
END:VEVENT
BEGIN:VEVENT
DTSTART;TZID=UTC:20220518T170000
DTEND;TZID=UTC:20220518T210000
DTSTAMP:20260425T131256
CREATED:20220223T033648Z
LAST-MODIFIED:20220223T033648Z
UID:3101-1652893200-1652907600@centralsquarevillas.com
SUMMARY:Clubhouse Reserved
DESCRIPTION:
URL:https://centralsquarevillas.com/event/clubhouse-reserved-10/
END:VEVENT
BEGIN:VEVENT
DTSTART;TZID=UTC:20220511T170000
DTEND;TZID=UTC:20220511T210000
DTSTAMP:20260425T131256
CREATED:20220313T232729Z
LAST-MODIFIED:20220313T232729Z
UID:3131-1652288400-1652302800@centralsquarevillas.com
SUMMARY:Clubhouse Reserved
DESCRIPTION:
URL:https://centralsquarevillas.com/event/clubhouse-reserved-19/
LOCATION:Clubhouse
END:VEVENT
BEGIN:VEVENT
DTSTART;TZID=UTC:20220427T180000
DTEND;TZID=UTC:20220427T200000
DTSTAMP:20260425T131256
CREATED:20220329T164259Z
LAST-MODIFIED:20220329T164259Z
UID:3136-1651082400-1651089600@centralsquarevillas.com
SUMMARY:Annual Meeting
DESCRIPTION:
URL:https://centralsquarevillas.com/event/annual-meeting-2/
LOCATION:Main-Transit Firehall\, 6777 Main Street\, Williamsville\, NY\, 14221\, United States
END:VEVENT
BEGIN:VEVENT
DTSTART;TZID=UTC:20220424T100000
DTEND;TZID=UTC:20220424T170000
DTSTAMP:20260425T131256
CREATED:20220313T232808Z
LAST-MODIFIED:20220313T232808Z
UID:3133-1650794400-1650819600@centralsquarevillas.com
SUMMARY:Clubhouse Reserved
DESCRIPTION:
URL:https://centralsquarevillas.com/event/clubhouse-reserved-20/
LOCATION:Clubhouse
END:VEVENT
BEGIN:VEVENT
DTSTART;TZID=UTC:20220420T170000
DTEND;TZID=UTC:20220420T210000
DTSTAMP:20260425T131256
CREATED:20220223T033556Z
LAST-MODIFIED:20220223T033556Z
UID:3099-1650474000-1650488400@centralsquarevillas.com
SUMMARY:Clubhouse Reserved
DESCRIPTION:
URL:https://centralsquarevillas.com/event/clubhouse-reserved-9/
END:VEVENT
BEGIN:VEVENT
DTSTART;TZID=UTC:20220413T170000
DTEND;TZID=UTC:20220413T210000
DTSTAMP:20260425T131256
CREATED:20220313T232653Z
LAST-MODIFIED:20220313T232653Z
UID:3129-1649869200-1649883600@centralsquarevillas.com
SUMMARY:Clubhouse Reserved
DESCRIPTION:
URL:https://centralsquarevillas.com/event/clubhouse-reserved-18/
END:VEVENT
BEGIN:VEVENT
DTSTART;TZID=UTC:20220326T100000
DTEND;TZID=UTC:20220326T160000
DTSTAMP:20260425T131256
CREATED:20220113T055738Z
LAST-MODIFIED:20220115T140049Z
UID:3087-1648288800-1648310400@centralsquarevillas.com
SUMMARY:Clubhouse Reserved
DESCRIPTION:
URL:https://centralsquarevillas.com/event/clubhouse-reserved-7/
END:VEVENT
BEGIN:VEVENT
DTSTART;TZID=UTC:20220309T170000
DTEND;TZID=UTC:20220309T210000
DTSTAMP:20260425T131256
CREATED:20220215T202646Z
LAST-MODIFIED:20220215T202717Z
UID:3097-1646845200-1646859600@centralsquarevillas.com
SUMMARY:Clubhouse Reserved
DESCRIPTION:
URL:https://centralsquarevillas.com/event/clubhouse-reserved-8/
END:VEVENT
BEGIN:VEVENT
DTSTART;TZID=UTC:20220117T080000
DTEND;TZID=UTC:20220117T170000
DTSTAMP:20260425T131256
CREATED:20220113T055929Z
LAST-MODIFIED:20220113T060854Z
UID:3089-1642406400-1642438800@centralsquarevillas.com
SUMMARY:Christmas Tree Pick Up
DESCRIPTION:The Town of Lancaster will be picking up Christmas trees in CSV on Monday\, January 17 (Rain Date is Tuesday\, January 18). Please drop your tree by Sunday evening between 20-22 Hanover Street or next to 43 Cumberland Street. There are stake markers where the pile should be. Map is below:
URL:https://centralsquarevillas.com/event/christmas-tree-pick-up/
END:VEVENT
BEGIN:VEVENT
DTSTART;TZID=UTC:20211231T090000
DTEND;TZID=UTC:20211231T180000
DTSTAMP:20260425T131256
CREATED:20211212T172453Z
LAST-MODIFIED:20211212T172558Z
UID:3078-1640941200-1640973600@centralsquarevillas.com
SUMMARY:Clubhouse Reserved
DESCRIPTION:
URL:https://centralsquarevillas.com/event/clubhouse-rental/
END:VEVENT
BEGIN:VEVENT
DTSTART;TZID=UTC:20211229T180000
DTEND;TZID=UTC:20211229T200000
DTSTAMP:20260425T131256
CREATED:20210618T010152Z
LAST-MODIFIED:20211013T221127Z
UID:2902-1640800800-1640808000@centralsquarevillas.com
SUMMARY:Board Meeting 12/29
DESCRIPTION:
URL:https://centralsquarevillas.com/event/board-meeting-7/
LOCATION:Clubhouse
END:VEVENT
BEGIN:VEVENT
DTSTART;TZID=UTC:20211124T180000
DTEND;TZID=UTC:20211124T200000
DTSTAMP:20260425T131256
CREATED:20210618T010117Z
LAST-MODIFIED:20211013T221150Z
UID:2900-1637776800-1637784000@centralsquarevillas.com
SUMMARY:Board Meeting 11/24
DESCRIPTION:
URL:https://centralsquarevillas.com/event/board-meeting-6/
LOCATION:Clubhouse
END:VEVENT
BEGIN:VEVENT
DTSTART;TZID=UTC:20211110T180000
DTEND;TZID=UTC:20211110T210000
DTSTAMP:20260425T131256
CREATED:20211028T000618Z
LAST-MODIFIED:20211028T000618Z
UID:3072-1636567200-1636578000@centralsquarevillas.com
SUMMARY:Clubhouse Reserved
DESCRIPTION:
URL:https://centralsquarevillas.com/event/clubhouse-reserved-6/
END:VEVENT
BEGIN:VEVENT
DTSTART;TZID=UTC:20211027T180000
DTEND;TZID=UTC:20211027T200000
DTSTAMP:20260425T131256
CREATED:20210618T010040Z
LAST-MODIFIED:20211013T221211Z
UID:2898-1635357600-1635364800@centralsquarevillas.com
SUMMARY:Board Meeting 10/27
DESCRIPTION:
URL:https://centralsquarevillas.com/event/board-meeting-5/
LOCATION:Clubhouse
END:VEVENT
BEGIN:VEVENT
DTSTART;TZID=UTC:20211013T180000
DTEND;TZID=UTC:20211013T210000
DTSTAMP:20260425T131256
CREATED:20210915T223308Z
LAST-MODIFIED:20210915T223308Z
UID:3037-1634148000-1634158800@centralsquarevillas.com
SUMMARY:Clubhouse Reserved
DESCRIPTION:
URL:https://centralsquarevillas.com/event/clubhouse-reserved-5/
LOCATION:Clubhouse
END:VEVENT
BEGIN:VEVENT
DTSTART;TZID=UTC:20210929T180000
DTEND;TZID=UTC:20210929T200000
DTSTAMP:20260425T131256
CREATED:20210618T010007Z
LAST-MODIFIED:20210618T010007Z
UID:2896-1632938400-1632945600@centralsquarevillas.com
SUMMARY:Board Meeting
DESCRIPTION:
URL:https://centralsquarevillas.com/event/board-meeting-4/
LOCATION:Clubhouse
END:VEVENT
BEGIN:VEVENT
DTSTART;TZID=UTC:20210911T090000
DTEND;TZID=UTC:20210911T210000
DTSTAMP:20260425T131256
CREATED:20210727T025928Z
LAST-MODIFIED:20210727T025928Z
UID:2925-1631350800-1631394000@centralsquarevillas.com
SUMMARY:Clubhouse Reserved
DESCRIPTION:
URL:https://centralsquarevillas.com/event/clubhouse-reserved-3/
LOCATION:Clubhouse
END:VEVENT
BEGIN:VEVENT
DTSTART;TZID=UTC:20210910T160000
DTEND;TZID=UTC:20210910T210000
DTSTAMP:20260425T131256
CREATED:20210826T002443Z
LAST-MODIFIED:20210826T002443Z
UID:2944-1631289600-1631307600@centralsquarevillas.com
SUMMARY:Clubhouse Reserved
DESCRIPTION:
URL:https://centralsquarevillas.com/event/clubhouse-reserved-4/
LOCATION:Clubhouse
END:VEVENT
BEGIN:VEVENT
DTSTART;TZID=UTC:20210825T180000
DTEND;TZID=UTC:20210825T200000
DTSTAMP:20260425T131256
CREATED:20210618T005925Z
LAST-MODIFIED:20210618T005925Z
UID:2894-1629914400-1629921600@centralsquarevillas.com
SUMMARY:Board Meeting
DESCRIPTION:
URL:https://centralsquarevillas.com/event/board-meeting-3/
LOCATION:Clubhouse
END:VEVENT
BEGIN:VEVENT
DTSTART;TZID=UTC:20210809T170000
DTEND;TZID=UTC:20210809T210000
DTSTAMP:20260425T131256
CREATED:20210727T025828Z
LAST-MODIFIED:20210727T025828Z
UID:2923-1628528400-1628542800@centralsquarevillas.com
SUMMARY:Clubhouse Reserved
DESCRIPTION:
URL:https://centralsquarevillas.com/event/clubhouse-reserved-2/
LOCATION:Clubhouse
END:VEVENT
BEGIN:VEVENT
DTSTART;TZID=UTC:20210806T180000
DTEND;TZID=UTC:20210806T230000
DTSTAMP:20260425T131256
CREATED:20210727T025738Z
LAST-MODIFIED:20210727T025738Z
UID:2921-1628272800-1628290800@centralsquarevillas.com
SUMMARY:Clubhouse Reserved
DESCRIPTION:
URL:https://centralsquarevillas.com/event/clubhouse-reserved/
LOCATION:Clubhouse
END:VEVENT
BEGIN:VEVENT
DTSTART;TZID=UTC:20210728T180000
DTEND;TZID=UTC:20210728T200000
DTSTAMP:20260425T131256
CREATED:20210618T005842Z
LAST-MODIFIED:20210618T005842Z
UID:2892-1627495200-1627502400@centralsquarevillas.com
SUMMARY:Board Meeting
DESCRIPTION:
URL:https://centralsquarevillas.com/event/board-meeting-2/
LOCATION:Clubhouse
END:VEVENT
END:VCALENDAR